BEGIN:VCALENDAR
VERSION:2.0
PRODID:-//Property Investor Partnership - ECPv6.15.20//NONSGML v1.0//EN
CALSCALE:GREGORIAN
METHOD:PUBLISH
X-WR-CALNAME:Property Investor Partnership
X-ORIGINAL-URL:https://www.propertyip.net
X-WR-CALDESC:Events for Property Investor Partnership
REFRESH-INTERVAL;VALUE=DURATION:PT1H
X-Robots-Tag:noindex
X-PUBLISHED-TTL:PT1H
BEGIN:VTIMEZONE
TZID:Europe/London
BEGIN:DAYLIGHT
TZOFFSETFROM:+0000
TZOFFSETTO:+0100
TZNAME:BST
DTSTART:20240331T010000
END:DAYLIGHT
BEGIN:STANDARD
TZOFFSETFROM:+0100
TZOFFSETTO:+0000
TZNAME:GMT
DTSTART:20241027T010000
END:STANDARD
BEGIN:DAYLIGHT
TZOFFSETFROM:+0000
TZOFFSETTO:+0100
TZNAME:BST
DTSTART:20250330T010000
END:DAYLIGHT
BEGIN:STANDARD
TZOFFSETFROM:+0100
TZOFFSETTO:+0000
TZNAME:GMT
DTSTART:20251026T010000
END:STANDARD
BEGIN:DAYLIGHT
TZOFFSETFROM:+0000
TZOFFSETTO:+0100
TZNAME:BST
DTSTART:20260329T010000
END:DAYLIGHT
BEGIN:STANDARD
TZOFFSETFROM:+0100
TZOFFSETTO:+0000
TZNAME:GMT
DTSTART:20261025T010000
END:STANDARD
END:VTIMEZONE
BEGIN:VEVENT
DTSTART;TZID=Europe/London:20250905T183000
DTEND;TZID=Europe/London:20250905T183000
DTSTAMP:20260419T181232
CREATED:20250605T111538Z
LAST-MODIFIED:20250605T112224Z
UID:3765-1757097000-1757097000@www.propertyip.net
SUMMARY:Property Investor Partnership’s Twilight of Summer Charity Ball - 05/09/2025
DESCRIPTION:As the summer sun sets\, the stars begin to shine… \nJoin us at Royal Norwich Golf Club for a night of magic\, music\, and meaning at the Twilight of Summer Charity Ball in support of Blue Bear Foundation and The Clare School. \nFriday 5th September | 6:30 PM – 12.30am  \nThree-Course Dinner | Live Band | Raffle & Auction \nCelebrate\, connect\, and contribute to two amazing causes in an atmosphere of late-summer charm. \nTickets: £75 \nRSVP\nKindly confirm your attendance by contacting Emma Biggie at info@propertyip.net or 01603 268083. Spaces are limited – secure your place today.
URL:https://www.propertyip.net/event/twilight-of-summer-charity-ball-05-09-2025/
LOCATION:Royal Norwich\, The Weston Estate\, Norwich\, Norfolk\, NR9 5JE\, United Kingdom
CATEGORIES:Charitable Events
ATTACH;FMTTYPE=image/jpeg:https://www.propertyip.net/wp-content/uploads/2025/06/Twilight-of-Summer-Charity-Ball.jpg
END:VEVENT
BEGIN:VEVENT
DTSTART;TZID=Europe/London:20250925T183000
DTEND;TZID=Europe/London:20250925T213000
DTSTAMP:20260419T181232
CREATED:20250508T055442Z
LAST-MODIFIED:20250605T102707Z
UID:3719-1758825000-1758835800@www.propertyip.net
SUMMARY:Uncork and Connect Investor Event with Wine Tasting - Norwich - 25/09/2025
DESCRIPTION:The Uncork and Connect Investor event with Wine Tasting will be held at The Refectory in Norwich and will feature Tom Lloyd-Jones\, Chief Investment Officer at Zenzic\, who will provide a detailed overview of the Zenzic Loan Note – including its structure\, security\, and strategic investment potential for qualifying investors. \nThe event will be held in September with the exact date to be confirmed. \nThis informative session will be followed by a relaxed wine tasting experience\, offering a chance for attendees to explore the opportunity further in a welcoming setting and connect with our team. \nTo learn more about this event or the Zenzic Loan Note\, contact our team on 01603 268083 or email emma.biggie@propertyip.net.
URL:https://www.propertyip.net/event/uncork-and-connect-investor-event-with-wine-tasting-norwich/
LOCATION:The Refectory\, 65 The Close\, Norwich\, Norfolk\, NR1 4DH\, United Kingdom
CATEGORIES:Investments
ATTACH;FMTTYPE=image/jpeg:https://www.propertyip.net/wp-content/uploads/2025/05/Uncork-and-Connect-Investor-Event.jpg
END:VEVENT
END:VCALENDAR