BEGIN:VCALENDAR
VERSION:2.0
PRODID:-//Property Investor Partnership - ECPv6.15.20//NONSGML v1.0//EN
CALSCALE:GREGORIAN
METHOD:PUBLISH
X-WR-CALNAME:Property Investor Partnership
X-ORIGINAL-URL:https://www.propertyip.net
X-WR-CALDESC:Events for Property Investor Partnership
REFRESH-INTERVAL;VALUE=DURATION:PT1H
X-Robots-Tag:noindex
X-PUBLISHED-TTL:PT1H
BEGIN:VTIMEZONE
TZID:Europe/London
BEGIN:DAYLIGHT
TZOFFSETFROM:+0000
TZOFFSETTO:+0100
TZNAME:BST
DTSTART:20240331T010000
END:DAYLIGHT
BEGIN:STANDARD
TZOFFSETFROM:+0100
TZOFFSETTO:+0000
TZNAME:GMT
DTSTART:20241027T010000
END:STANDARD
BEGIN:DAYLIGHT
TZOFFSETFROM:+0000
TZOFFSETTO:+0100
TZNAME:BST
DTSTART:20250330T010000
END:DAYLIGHT
BEGIN:STANDARD
TZOFFSETFROM:+0100
TZOFFSETTO:+0000
TZNAME:GMT
DTSTART:20251026T010000
END:STANDARD
BEGIN:DAYLIGHT
TZOFFSETFROM:+0000
TZOFFSETTO:+0100
TZNAME:BST
DTSTART:20260329T010000
END:DAYLIGHT
BEGIN:STANDARD
TZOFFSETFROM:+0100
TZOFFSETTO:+0000
TZNAME:GMT
DTSTART:20261025T010000
END:STANDARD
END:VTIMEZONE
BEGIN:VEVENT
DTSTART;VALUE=DATE:20250612
DTEND;VALUE=DATE:20250613
DTSTAMP:20260420T055458
CREATED:20250508T060656Z
LAST-MODIFIED:20250605T111935Z
UID:3723-1749686400-1749772799@www.propertyip.net
SUMMARY:Annual Charity Golf Day - 12/06/2025
DESCRIPTION:Our Annual Charity Golf Event brings together teams of four golfers for a memorable day on the course\, featuring 18 holes of golf followed by an exquisite three-course dinner at the Club House. \nIn 2024\, the event raised an incredible £22\,000 through the evening’s charity auction\, supporting the work of The Clare School in Norwich and the Blue Bear Foundation. The charity auction will return this year with even greater ambitions to support these important causes. \nTeam entry fee: £500 (golf only)\nHole sponsorship package: £600 (includes team entry + hole named after you or your company) \nThe day begins with a delicious breakfast served on arrival at 10:30 AM\, followed by expert tips from the resident Golf Pro. A shotgun start takes place at midday\, with refreshments available throughout the course. \nIn the evening\, a three-course dinner is served at the Club House. Additional tickets for the evening meal can be purchased separately: \nIndividual dinner ticket: £50\nTable of 10: £475 \nFor full event details\, sponsorship opportunities\, or to register your interest\, please get in touch with the team.
URL:https://www.propertyip.net/event/annual-charity-golf-day/
LOCATION:Barnham Broom\, Honingham Road\, Norwich\, Norfolk\, NR9 4DD\, United Kingdom
CATEGORIES:Charitable Events
ATTACH;FMTTYPE=image/jpeg:https://www.propertyip.net/wp-content/uploads/2025/05/PIP-Golf-Day.jpg
END:VEVENT
END:VCALENDAR