BEGIN:VCALENDAR
VERSION:2.0
PRODID:-//Property Investor Partnership - ECPv6.15.20//NONSGML v1.0//EN
CALSCALE:GREGORIAN
METHOD:PUBLISH
X-WR-CALNAME:Property Investor Partnership
X-ORIGINAL-URL:https://www.propertyip.net
X-WR-CALDESC:Events for Property Investor Partnership
REFRESH-INTERVAL;VALUE=DURATION:PT1H
X-Robots-Tag:noindex
X-PUBLISHED-TTL:PT1H
BEGIN:VTIMEZONE
TZID:Europe/London
BEGIN:DAYLIGHT
TZOFFSETFROM:+0000
TZOFFSETTO:+0100
TZNAME:BST
DTSTART:20240331T010000
END:DAYLIGHT
BEGIN:STANDARD
TZOFFSETFROM:+0100
TZOFFSETTO:+0000
TZNAME:GMT
DTSTART:20241027T010000
END:STANDARD
BEGIN:DAYLIGHT
TZOFFSETFROM:+0000
TZOFFSETTO:+0100
TZNAME:BST
DTSTART:20250330T010000
END:DAYLIGHT
BEGIN:STANDARD
TZOFFSETFROM:+0100
TZOFFSETTO:+0000
TZNAME:GMT
DTSTART:20251026T010000
END:STANDARD
BEGIN:DAYLIGHT
TZOFFSETFROM:+0000
TZOFFSETTO:+0100
TZNAME:BST
DTSTART:20260329T010000
END:DAYLIGHT
BEGIN:STANDARD
TZOFFSETFROM:+0100
TZOFFSETTO:+0000
TZNAME:GMT
DTSTART:20261025T010000
END:STANDARD
END:VTIMEZONE
BEGIN:VEVENT
DTSTART;TZID=Europe/London:20250709T183000
DTEND;TZID=Europe/London:20250709T213000
DTSTAMP:20260419T222243
CREATED:20250605T102101Z
LAST-MODIFIED:20250605T102635Z
UID:3755-1752085800-1752096600@www.propertyip.net
SUMMARY:Uncork and Connect Investor Event with Wine Tasting Norwich - 09/07/2025
DESCRIPTION:A welcoming reception with live music\, wine and canapés. \nAn engaging session with Dan McGonigle\, Head of Global Relations at Livemore Capital\, as he shares Livemore’s vision\, core values\, and the exciting investment opportunities currently available. \nDelicious\, locally sourced food provided by Bread Source. \nA curated wine-tasting experience to round off the evening. \nRSVP\nKindly confirm your attendance by contacting Emma Biggie at emma.biggie@propertyip.net or 01603 268083. Spaces are limited – secure your place today.
URL:https://www.propertyip.net/event/uncork-and-connect-event-norwich-09-07-2025/
LOCATION:The Refectory\, 65 The Close\, Norwich\, Norfolk\, NR1 4DH\, United Kingdom
CATEGORIES:Investments
ATTACH;FMTTYPE=image/jpeg:https://www.propertyip.net/wp-content/uploads/2025/06/Uncork-and-Connect-Event-Norwich.jpg
END:VEVENT
END:VCALENDAR